BEGIN:VCALENDAR
VERSION:2.0
BEGIN:VEVENT
PRODID:-//EventsAdmin//EN
UID:a69f7d2c-8f46-4cc9-8a70-63d1c6c40feb@eventsadmin.com
DTSTAMP:20260420T041918Z
TRANSP:TRANSPARENT
DTSTART:20250611T090000
DTEND:20250613T180000
SUMMARY;ENCODING=QUOTED-PRINTABLE:14th International Conference of the Financial Engineering and Banking Society
LOCATION;ENCODING=QUOTED-PRINTABLE:MBS School of Business - Montpellier campus
DESCRIPTION;ENCODING=QUOTED-PRINTABLE:Conference Overview=0D=0AThe 14th International Conference of the Financial Engineering and Banking Society (FEBS) will be co-organized by the Finance &amp; Accounting Department of the MBS School of Business (France), the Department of Banking &amp; Finance of the University of Southampton (UK), and the Department of Finance &amp; Accounting of the University of Surrey (UK).=0D=0ACoference venue and dates=0D=0AThe conference will be hosted by the MBS School of Business in its Montpellier campus, from 11 to 13 June 2
END:VEVENT
END:VCALENDAR
